BEGIN:VCALENDAR
VERSION:2.0
PRODID:-//One Light Tribe - ECPv6.5.0//NONSGML v1.0//EN
CALSCALE:GREGORIAN
METHOD:PUBLISH
X-ORIGINAL-URL:https://onelighttribe.com
X-WR-CALDESC:Events for One Light Tribe
REFRESH-INTERVAL;VALUE=DURATION:PT1H
X-Robots-Tag:noindex
X-PUBLISHED-TTL:PT1H
BEGIN:VTIMEZONE
TZID:America/Los_Angeles
BEGIN:DAYLIGHT
TZOFFSETFROM:-0800
TZOFFSETTO:-0700
TZNAME:PDT
DTSTART:20240310T100000
END:DAYLIGHT
BEGIN:STANDARD
TZOFFSETFROM:-0700
TZOFFSETTO:-0800
TZNAME:PST
DTSTART:20241103T090000
END:STANDARD
END:VTIMEZONE
BEGIN:VEVENT
DTSTART;TZID=America/Los_Angeles:20240606T170000
DTEND;TZID=America/Los_Angeles:20240609T120000
DTSTAMP:20260423T230824
CREATED:20240423T060431Z
LAST-MODIFIED:20240503T210944Z
UID:10000253-1717693200-1717934400@onelighttribe.com
SUMMARY:Higher Dimensional Medicine Weekend Retreats
DESCRIPTION:3 night retreat\, available to our private mailing list by referral. please inquire for more details
URL:https://onelighttribe.com/event/higher-dimensional-medicine-weekend-retreats/
LOCATION:Sololá
CATEGORIES:California
ORGANIZER;CN="One Light Tribe":MAILTO:info@onelighttribe.com
END:VEVENT
END:VCALENDAR