BEGIN:VCALENDAR
VERSION:2.0
PRODID:-//One Light Tribe - ECPv6.5.0//NONSGML v1.0//EN
CALSCALE:GREGORIAN
METHOD:PUBLISH
X-ORIGINAL-URL:https://onelighttribe.com
X-WR-CALDESC:Events for One Light Tribe
REFRESH-INTERVAL;VALUE=DURATION:PT1H
X-Robots-Tag:noindex
X-PUBLISHED-TTL:PT1H
BEGIN:VTIMEZONE
TZID:America/Guatemala
BEGIN:STANDARD
TZOFFSETFROM:-0600
TZOFFSETTO:-0600
TZNAME:CST
DTSTART:20250101T000000
END:STANDARD
END:VTIMEZONE
BEGIN:VEVENT
DTSTART;TZID=America/Guatemala:20250412T110000
DTEND;TZID=America/Guatemala:20250412T130000
DTSTAMP:20260423T001338
CREATED:20250221T220623Z
LAST-MODIFIED:20250502T052444Z
UID:10000283-1744455600-1744462800@onelighttribe.com
SUMMARY:Kundalini Activation Sessions
DESCRIPTION:you are so invited to join me\, andrew burrows\, at sacha to receive a pure and iridescent transmission of life force energy. \nkundalini shakti 𓂀 is the coiled sacred serpent that rests at the root of the spine\, who we invite to rise. she reminds you of your infinite creative potential in this body and in this lifetime. you are welcome to come feel and sense her aliveness through you\, and witness her heal\, transform\, remind\, uplift and deeply nourish you\, as you surrender to the potency of your own holy awakening process in a safe\, timeless\, and lovingly woven non dual container\, supported lovingly also by a carefully curated immersive sound experience that i have created for you and your highest good. \nwe begin with prayer\, kundalini kriya and breathwork\, a 77 minute transmission received while laying on the back\, and close with an open sharing and connection in circle. welcome. \nQ250 / $33 USD\n11 AM – 1 PM\nfeb 25 • mar 11 • apr 12 • apr 26 \nplease send me a message to save your place and send payment.\ninstagram: @andrewavocados\nwhatsapp: +1 289 828 2277\nemail: andrew.avocados@gmail.com \nwith a lot of love\,\nandrew
URL:https://onelighttribe.com/event/kundalini-activation-sessions/2025-04-12/
LOCATION:Sacha Temple\, Barrio 3\, San Marcos La Laguna\, Sololá\, Guatemala
CATEGORIES:Guatemala
ORGANIZER;CN="Andrew Burrows":MAILTO:andrew.avocados@gmail.com
END:VEVENT
END:VCALENDAR