BEGIN:VCALENDAR
VERSION:2.0
PRODID:-//One Light Tribe - ECPv6.5.0//NONSGML v1.0//EN
CALSCALE:GREGORIAN
METHOD:PUBLISH
X-ORIGINAL-URL:https://onelighttribe.com
X-WR-CALDESC:Events for One Light Tribe
REFRESH-INTERVAL;VALUE=DURATION:PT1H
X-Robots-Tag:noindex
X-PUBLISHED-TTL:PT1H
BEGIN:VTIMEZONE
TZID:America/Guatemala
BEGIN:STANDARD
TZOFFSETFROM:-0600
TZOFFSETTO:-0600
TZNAME:CST
DTSTART:20250101T000000
END:STANDARD
END:VTIMEZONE
BEGIN:VEVENT
DTSTART;TZID=America/Guatemala:20250129T110000
DTEND;TZID=America/Guatemala:20250129T130000
DTSTAMP:20260424T041955
CREATED:20250122T194800Z
LAST-MODIFIED:20250126T202636Z
UID:10000278-1738148400-1738155600@onelighttribe.com
SUMMARY:From Dragon to Serpent: New Moon Ceremony
DESCRIPTION:From Dragon to Serpent • New Moon CeremonyWednesday 29 January 11am-1pm • Sacha\, San Marcos\, Lago Atitlán\nLunar New Year Visioning with Cacao and Ceremonial Soundscape\nAs we transition from the transformative lunar year of the Wood Dragon\, we are now stepping into a new chapter: the Year of the Wood Serpent\, traditionally known as the “Year of the Little Dragon” in Chinese culture. \nThe dragon symbolises the primal spark of creativity\, a profound reminder of our innate connection to infinite creative potential. This is a potent time to invoke the inherent creative power that resides within us. \nOn the day of the new moon that marks the beginning of the lunar new year of Serpent\, we warmly invite you to join us in a ceremonial soundscape. Through the medicine of cacao\, a guided Breathwork meditation and the resonance of sound\, we will create a liminal space—a gateway for you to dream and envision new possibilities for this potent lunar year cycle. \nTo close the circle\, we will engage in an intention-setting ritual to honor the rise of the serpent and this new chapter of transformation. Together\, we will weave our voices intuitively\, bringing our individual and collective visions to life. \nDonation for the event is Q150/$20. Register in advance at this link with card\, or message us to save your place and bring Q150 cash. \n \nIsa is a lightworker\, channel\, shamanic guide and practitioner\, holding healing space with the plant medicine ayahausca\, also with cacao and breathwork. She uses her voice\, light language\, songs\, alchemy crystal bowls and other instruments and vibrations as sound healing frequencies to guide healing journeys\, and to work one on one with clients. She attunes with the rainbow light energy through her hands\, assisting humanity in the ascension process to match the frequency of the New Earth. She is the founder of One Light Tribe\, a community formed around the medicine work since 2013\, which extends from California\, New York and Guatemala. She runs a retreat center in Guatemala called ‘Sacha’\, which was a vision from the medicine many years prior to it being constructed in 2019. \n \nOriginally from Hong Kong\, Oyu is passionate about weaving ancient Chinese wisdom of Daoism\, power of breath and our voices to help us dissolve into non dual state of consciousness. She has a deep connection with the spirits of nature and is often guided by the wisdom of trees. She channels spirit songs that brings harmony\, openness and timelessness into the space she holds. She has been bringing the dragon awakening vocal ritual to communities at events and festivals like Being Gathering in Portugal\, Medicine Festival and Love Jam Campout in the UK. She also holds space for pilgrimage ceremonies on the ley line. \nHow to arrive to Sacha: from the main road\, entering into San Marcos\, at Moonfish restaurant turn left. Follow the road up and to the right\, just past the tienda there is a path\, across from the mechanic\, it is the same path to Ahau\, Kawok forest and 7 Volcanoes. It is about 2-3 minutes walk on the path until you arrive at a wooden door on the right\, in an adobe colored wall\, with  round wooden sign that says Sacha. Please enter here and go up to the left to the Maloka.
URL:https://onelighttribe.com/event/from-dragon-to-serpent-new-moon-ceremony/
LOCATION:Sacha Temple\, Barrio 3\, San Marcos La Laguna\, Sololá\, Guatemala
CATEGORIES:Guatemala
END:VEVENT
END:VCALENDAR