BEGIN:VCALENDAR
VERSION:2.0
PRODID:-//One Light Tribe - ECPv6.5.0//NONSGML v1.0//EN
CALSCALE:GREGORIAN
METHOD:PUBLISH
X-WR-CALNAME:One Light Tribe
X-ORIGINAL-URL:https://onelighttribe.com
X-WR-CALDESC:Events for One Light Tribe
REFRESH-INTERVAL;VALUE=DURATION:PT1H
X-Robots-Tag:noindex
X-PUBLISHED-TTL:PT1H
BEGIN:VTIMEZONE
TZID:America/Guatemala
BEGIN:STANDARD
TZOFFSETFROM:-0600
TZOFFSETTO:-0600
TZNAME:CST
DTSTART:20250101T000000
END:STANDARD
END:VTIMEZONE
BEGIN:VEVENT
DTSTART;TZID=America/Guatemala:20250212T160000
DTEND;TZID=America/Guatemala:20250218T130000
DTSTAMP:20260424T085133
CREATED:20240907T004035Z
LAST-MODIFIED:20241024T195351Z
UID:10000262-1739376000-1739883600@onelighttribe.com
SUMMARY:Love Yourself Valentines Medicine Retreat Week
DESCRIPTION:Join us for a deep journey into the heart and soul of YOU\n\n\n\n\nPresenting our 12th annual ‘Love Yourself’ Valentines Retreat\n\n\n\n\nThis journey and path of plant medicine can be transformational. It is the best gift you can give. Through this work we realize we are ONE. One with nature\, one within our body\, mind and emotions. There is no separation of the self. Come Home to YOU. The first step to LIVING in freedom\, happiness\, peace and love is to ‘Love Yourself’. \n$1555  \n\n\n\n\nThe retreat is all inclusive:\n\n\n\n\n\n7 nights staying at our Sacha Center\n4 nighttime ceremonies with la madre ayahuasca\nIntegration daytime ceremony with cacao and other plant medicine\nMayan fire ceremony\nyoga/meditation classes\nPersonal 1:1 channeling session with Isa\n2 temezcal sessions (sauna) with flower bath\ngroup sharing circles\nOrganic\, delicious prepared dieta meals prepared by our chef on site\,\nPersonal time to read\, write\, chill on a hammock\, relax\nSunrise outing on the lake and hike\nOptional mayan astrology readings\, massage/body work and other treatments can be arranged on the property for additional cost\n\n\n\n\n\nRetreat is facilitated and ceremonies are led by Isa and Ari. All ceremonies are led in traditional style with live music in a sacred silent container. Each person has their own comfortable mat\, cushion and blanket. Accommodations are shared rooms\, and there are couple of more private options (extra cost\, please inquire to find out the availability). Please see photos of our Sacha Retreat Center here. \nAirfare to Guatemala City Aurora Intl airport\, transportation from airport to the village of San Marcos and accommodations before or after the retreat are not included. There is option to stay before and after the retreat at Sacha and there are many other accommodations nearby and other towns on the lake. We can organize a shuttle to San Marcos from the airport or pair people up in private taxi\, the drive is approx 3.5 hours. Plan your flight to arrive in Guatemala by Feb 11 or latest early morning Feb 12. Departures can be late afternoon/evening starting Feb 19. It is recommended to hang out a couple of extra days if you can\, or visit other places on the lake. It is easy to stay in one town and take the boat (lancha) to other villages. We are happy to help you arrange your travel plans. You can extend your stay at Sacha before or after the retreat.
URL:https://onelighttribe.com/event/love-yourself-valentines-medicine-retreat-week/
LOCATION:Sacha Temple\, Barrio 3\, San Marcos La Laguna\, Sololá\, Guatemala
CATEGORIES:Guatemala
ORGANIZER;CN="One Light Tribe":MAILTO:info@onelighttribe.com
END:VEVENT
END:VCALENDAR