BEGIN:VCALENDAR
VERSION:2.0
PRODID:-//One Light Tribe - ECPv6.5.0//NONSGML v1.0//EN
CALSCALE:GREGORIAN
METHOD:PUBLISH
X-WR-CALNAME:One Light Tribe
X-ORIGINAL-URL:https://onelighttribe.com
X-WR-CALDESC:Events for One Light Tribe
REFRESH-INTERVAL;VALUE=DURATION:PT1H
X-Robots-Tag:noindex
X-PUBLISHED-TTL:PT1H
BEGIN:VTIMEZONE
TZID:America/Guatemala
BEGIN:STANDARD
TZOFFSETFROM:-0600
TZOFFSETTO:-0600
TZNAME:CST
DTSTART:20250101T000000
END:STANDARD
END:VTIMEZONE
BEGIN:VEVENT
DTSTART;TZID=America/Guatemala:20250320T160000
DTEND;TZID=America/Guatemala:20250323T130000
DTSTAMP:20260423T143316
CREATED:20250315T180853Z
LAST-MODIFIED:20250315T181318Z
UID:10000286-1742486400-1742734800@onelighttribe.com
SUMMARY:Shipibo Medicine Retreat
DESCRIPTION:Connect with own soul through the wisdom of the plants\n\n\n\n\nJoin us for this very special 3 night healing plant medicine retreat. We are honored to welcome maestras Rosenda and Lilia back to Sacha.  The maestras are healers from the shipibo-conibo lineage and visiting us from Pucallpa\, Peru. They bring with them the teachings they have received through the plants\, and will conduct the 2 nighttime ceremonies with their icaros (transmissions or songs of the plants) that will help to cleanse your body\, sprit and emotions. We will hold an integration ceremony with cacao and another special teacher for the final day/night. \n\n\nRetreat Details\n\n\n\n\nWhat is included:\n\n2 nighttime ayahuasca ceremonies led by the maestras\, accompanied by Isa and Ari\nDaytime-evening integration ceremony with cacao and other special teacher ‘plant’\nAccommodations at Sacha\, 2 and 4 beds per-room (there is limited private room availability for a couple or if single occupancy there is $150 extra fee).\nAll meals\, organic\, home-cooked and on the plant medicine diet. Meals are vegan with the exception of optional eggs\, and we can accommodate any special dietary needs\nTemezcal (sauna) and plant bath on the day before the first ceremony.\nYoga and sound healing session\nSharing circles to help to integrate the work\nRetreat will begin at 1PM with lunch on Thursday March 20. Plan to arrive by noon that day to settle in. Retreat ends after brunch and sharing on Sunday March 23\, approx. 1PM. Retreat is limited to 15 participants.\n\n\n\n\n\nThere will be additional single night ceremonies on the evening of March 24 and 25\, this can be added additional and you would be welcome to stay at Sacha between the retreats for per night accommodation cost. \nCost does not include: International airfare to Guatemala City\, travel insurance\, RT taxi or shuttle to the lake from airport (3+ hour trip and we can assist in pairing people coming together)\, or added night of accommodation at Sacha or elsewhere. \nAll info and details will be sent in advance of the retreat to all registered\, this will include a special ayahuasca diet to follow. \nWe can help you plan your journey\, please message ari@onelighttribe.com once you are registered.
URL:https://onelighttribe.com/event/shipibo-medicine-retreat/
LOCATION:Sacha Temple\, Barrio 3\, San Marcos La Laguna\, Sololá\, Guatemala
CATEGORIES:Guatemala
ATTACH;FMTTYPE=image/jpeg:https://onelighttribe.com/wp-content/uploads/2024/09/IMG_9662-scaled-e1727217055527.jpeg
ORGANIZER;CN="One Light Tribe":MAILTO:info@onelighttribe.com
END:VEVENT
END:VCALENDAR