BEGIN:VCALENDAR
VERSION:2.0
PRODID:-//One Light Tribe - ECPv6.5.0//NONSGML v1.0//EN
CALSCALE:GREGORIAN
METHOD:PUBLISH
X-WR-CALNAME:One Light Tribe
X-ORIGINAL-URL:https://onelighttribe.com
X-WR-CALDESC:Events for One Light Tribe
REFRESH-INTERVAL;VALUE=DURATION:PT1H
X-Robots-Tag:noindex
X-PUBLISHED-TTL:PT1H
BEGIN:VTIMEZONE
TZID:America/Guatemala
BEGIN:STANDARD
TZOFFSETFROM:-0600
TZOFFSETTO:-0600
TZNAME:CST
DTSTART:20260101T000000
END:STANDARD
END:VTIMEZONE
BEGIN:VEVENT
DTSTART;TZID=America/Guatemala:20260325T090000
DTEND;TZID=America/Guatemala:20260325T130000
DTSTAMP:20260419T230725
CREATED:20260317T002635Z
LAST-MODIFIED:20260317T003245Z
UID:10000611-1774429200-1774443600@onelighttribe.com
SUMMARY:Wellness Wednesday with Isa\, Tobey\, and Janel
DESCRIPTION:Join us at Sacha Retreat Center in San Marcos La Laguna for a nourishing half-day reset designed to help you slow down\, soften\, and return to yourself. \nHeld in one of Lake Atitlán’s most serene and enchanting retreat spaces\, this intimate gathering invites you into a morning of intentional care surrounded by natural beauty\, fresh air\, community\, and the grounding energy of the lake. This is a chance to step out of the rush of daily life and into a more spacious rhythm\, where you can reconnect with your body\, settle your mind\, and receive the kind of nourishment that lingers long after the day is over. \nWe’ll begin the morning with a lovely Good Morning Vinyasa Yoga practice with Janel\, creating space for gentle movement\, breath\, presence\, and embodied awakening. From there\, we’ll enjoy fresh smoothies to replenish and refresh\, then settle into AcuDetox with Tobey\, a calming and supportive practice that can help regulate the nervous system\, encourage relaxation\, and invite a deeper sense of balance. \nAs the morning continues\, we’ll drop into the soothing resonance of a beautifully curated Sound Healing experience with Isa Cali\, allowing the vibrations to deepen the benefits of the yoga and AcuDetox while\nhelping you soften even further into rest\, receptivity\, and inner spaciousness. We’ll then close with Temezcal\, offering warmth\, release\, purification\, and a powerful final layer of renewal. \nThis day is designed as a complete journey\, with each element thoughtfully woven together to support grounding\, restoration\, and connection. It’s a beautiful way to give yourself a real pause\, whether you’ve been feeling stretched thin\, craving community\, seeking a reset\, or simply wanting to spend a meaningful morning in a peaceful and inspiring setting. \nEvent Flow\n9:00 AM — Good Morning Vinyasa Yoga with Janel\n10:00–10:30 AM — Smoothie Bar\n10:30–11:00 AM — AcuDetox with Tobey\n11:00 AM — Sound Healing curated by Isa Cali\n12:00 PM onward — Temezcal \nThis is an intimate small-group offering with space limited to 15 participants. We are offering full half-day packages only\, and advance RSVP is required. \nWhether you are craving restoration\, clarity\, connection\, or simply a beautiful pause in a stunning setting\, this retreat is designed to leave you feeling more grounded\, nourished\, open\, and renewed. \nSpaces are limited\, and we expect this offering to fill. If this is calling to you\, we recommend reserving your spot in advance. Reserve by messaging +502 3129 5959 or scan the QR code on the flyer below \nInvestment\n350Q per person \nOptional lunch at 1:00 PM available for an additional 60Q
URL:https://onelighttribe.com/event/wellness-wednesday-at-sacha-retreat-center/
LOCATION:Sacha Temple\, Barrio 3\, San Marcos La Laguna\, Sololá\, Guatemala
CATEGORIES:Guatemala
END:VEVENT
END:VCALENDAR