BEGIN:VCALENDAR
VERSION:2.0
PRODID:-//One Light Tribe - ECPv6.5.0//NONSGML v1.0//EN
CALSCALE:GREGORIAN
METHOD:PUBLISH
X-WR-CALNAME:One Light Tribe
X-ORIGINAL-URL:https://onelighttribe.com
X-WR-CALDESC:Events for One Light Tribe
REFRESH-INTERVAL;VALUE=DURATION:PT1H
X-Robots-Tag:noindex
X-PUBLISHED-TTL:PT1H
BEGIN:VTIMEZONE
TZID:America/Guatemala
BEGIN:STANDARD
TZOFFSETFROM:-0600
TZOFFSETTO:-0600
TZNAME:CST
DTSTART:20230101T000000
END:STANDARD
END:VTIMEZONE
BEGIN:VEVENT
DTSTART;VALUE=DATE:20231122
DTEND;VALUE=DATE:20231128
DTSTAMP:20260419T065434
CREATED:20231026T031101Z
LAST-MODIFIED:20231026T031815Z
UID:10000013-1700611200-1701129599@onelighttribe.com
SUMMARY:Sacred Midwifery Retreat
DESCRIPTION:We welcome you to join us for a 5-day immersion into the sacred ancestral practices of Maya midwifery. These days you can expect to be introduced to the Mayan cosmovision and spirituality that is at the very core of the work of these women. We will explore a variation of traditional womb healing practices\, pregnancy and postpartum care\, traditional cures for babies and herbal medicines. All while being surrounded by souls on similar paths of life\, who follow/explore their calling of midwifery and birthwork. Let’s nourish our souls\, deepen our own healing and delve into the ancient art of midwifery\, as embodied by our Mayan guides and teachers. \nPricing options \n– Single Bed in 4-bed room: $1677 (basic) or $1722 (abundant)\n– Single Bed in 2-bed room: $1744 (basic) or $1799 (abundant)\n– *Queen Bed in private room: $1866 (basic) or $1911 (abundant) *ideal for mother with child/baby \nMore info and registration:\nhttps://www.midwifeproject.net/midwifery-retreat
URL:https://onelighttribe.com/event/sacred-midwifery-retreat/
LOCATION:Sololá
CATEGORIES:Guatemala
END:VEVENT
END:VCALENDAR