BEGIN:VCALENDAR
VERSION:2.0
PRODID:-//One Light Tribe - ECPv6.5.0//NONSGML v1.0//EN
CALSCALE:GREGORIAN
METHOD:PUBLISH
X-WR-CALNAME:One Light Tribe
X-ORIGINAL-URL:https://onelighttribe.com
X-WR-CALDESC:Events for One Light Tribe
REFRESH-INTERVAL;VALUE=DURATION:PT1H
X-Robots-Tag:noindex
X-PUBLISHED-TTL:PT1H
BEGIN:VTIMEZONE
TZID:America/Guatemala
BEGIN:STANDARD
TZOFFSETFROM:-0600
TZOFFSETTO:-0600
TZNAME:CST
DTSTART:20250101T000000
END:STANDARD
END:VTIMEZONE
BEGIN:VEVENT
DTSTART;TZID=America/Guatemala:20250807T120000
DTEND;TZID=America/Guatemala:20250811T120000
DTSTAMP:20260419T180035
CREATED:20250604T151325Z
LAST-MODIFIED:20250604T151542Z
UID:10000300-1754568000-1754913600@onelighttribe.com
SUMMARY:8-8 Lion's Gate Portal Retreat
DESCRIPTION: August 7-11 • Sacha\, San Marcos Lago Atitlán\, Guatemala   We will be working with the special transformative Lion’s Gate energies during this 4-night retreat weekend held at Sacha\, our retreat property in Guatemala. Madre medicine circles with Isa + Ari will be held on Friday and Saturday nights. Sunday we will have a cacao fun-gi integration ceremony\, including sound journey and channeling sessions with Isa. Yoga/meditation session\, group sharing\, delicious organic meals. Retreat begins Thursday for dinner and ends Monday early afternoon. Rooms are shared 2-4 people\, guesthouse upgrade or private room is available for additional cost\, please inquire. You are welcome to stay extra nights at Sacha before and after the retreat\, as long as you would like. Limited to 12 participants.
URL:https://onelighttribe.com/event/8-8-lions-gate-portal-retreat/
LOCATION:Sacha Temple\, Barrio 3\, San Marcos La Laguna\, Sololá\, Guatemala
CATEGORIES:Guatemala
ORGANIZER;CN="One Light Tribe":MAILTO:info@onelighttribe.com
END:VEVENT
BEGIN:VEVENT
DTSTART;TZID=America/Guatemala:20250814T160000
DTEND;TZID=America/Guatemala:20250814T190000
DTSTAMP:20260419T180035
CREATED:20250804T203829Z
LAST-MODIFIED:20250804T204032Z
UID:10000301-1755187200-1755198000@onelighttribe.com
SUMMARY:Cacao • Breath + Sound live event
DESCRIPTION:Join us for a LIVE and in-person journey with Isa and Ari of One Light Tribe\, along with a prerecorded DJ set by Aguacate with live overlapping rhythm and voice\, and the cacao spirit! Session will be held at the beautiful maloka temple at Sacha\, San Marcos La Laguna. This powerful session includes warm up movement\, fire breathwork\, channeling\, chanting and sound healing with alchemy crystal bowls\, flutes\, shruti\, harmonium\, voice\, chimes\, didge and gong. Please arrive by 4 so we can begin on time. You can reserve in advance at the link below or message us to reserve your space and bring cash \n​Cacao contains the neurotransmitters serotonin\, tryptophan and dopamine. These assist with feelings of well-being\, can combat stress and anxiety\, and contribute to motivation. Cacao also contains the neuromodulator phenylethylamine (PEA) which helps the body create feelings of excitement and euphoria. Cacao is one of the highest sources of antioxidants and magnesium\, is extremely beneficial to heart health\, and helps lower blood pressure. Cacao also contains caffenine. \n​When we combine cacao with powerful breathwork\, chanting\, and sound healing\, we can achieve a sense of calm in the mind\, deep connection through an open heart\, and witness energy flowing through and around the body. \n​If you are experiencing serious health challenges or are on high levels of antidepressants\, please message us in advance to discuss whether this type of journey is safe for you or how we can accommodate your needs. \n​We begin the journey connecting with the group while we drink our cacao\, be sure to prepare before we begin. We will lead you in warm up movements and a session of powerful breathing\, a short meditation\, and then a surrender to sound. we will finish with short sharing/integration together. After the session you may be feeling energized but also quite relaxed and grounded in the body. \n$33 or 250Q \n 
URL:https://onelighttribe.com/event/cacao-breath-sound-live-event-2-3/2025-08-14/
LOCATION:Sacha Temple\, Barrio 3\, San Marcos La Laguna\, Sololá\, Guatemala
CATEGORIES:Guatemala
ORGANIZER;CN="One Light Tribe":MAILTO:info@onelighttribe.com
END:VEVENT
END:VCALENDAR