BEGIN:VCALENDAR
VERSION:2.0
PRODID:-//One Light Tribe - ECPv6.5.0//NONSGML v1.0//EN
CALSCALE:GREGORIAN
METHOD:PUBLISH
X-WR-CALNAME:One Light Tribe
X-ORIGINAL-URL:https://onelighttribe.com
X-WR-CALDESC:Events for One Light Tribe
REFRESH-INTERVAL;VALUE=DURATION:PT1H
X-Robots-Tag:noindex
X-PUBLISHED-TTL:PT1H
BEGIN:VTIMEZONE
TZID:America/Guatemala
BEGIN:STANDARD
TZOFFSETFROM:-0600
TZOFFSETTO:-0600
TZNAME:CST
DTSTART:20250101T000000
END:STANDARD
END:VTIMEZONE
BEGIN:VEVENT
DTSTART;TZID=America/Guatemala:20251210T100000
DTEND;TZID=America/Guatemala:20251210T113000
DTSTAMP:20260419T180258
CREATED:20251206T022109Z
LAST-MODIFIED:20251210T215258Z
UID:10000398-1765360800-1765366200@onelighttribe.com
SUMMARY:Blue Lotus Ceremony with Saviera + Isa
DESCRIPTION:Immerse yourself in the beautiful space of Sacha in San Marcos on the sacred Lago de Atitlán in the mystical forest. \nThis weekly offering is held by Saviera with Isa\, and is a safe space for a deep cleansing and opening. It is an empowering journey using the third eye opening effect of the blue lotus to access higher realms & receive cleansing\, empowerment & healing in lightness 🙏🪷💜✨️ \nBlue Lotus has been used in ancient egypt. It’s a beautiful flower which has grown in the sacred nile and is used as tea or tincture for relaxation\, cleanse & opening of the third eye\, accessing higher truth\, connecting with your intuition\, lucid dreaming and as aphrodisiacs. \nIsa will be playing and singing with her alchemy crystal bowls\, channeling and transmitting light language for activation\, cleansing and assistance in tuning the energy field. \nWhat you receive ❤️🪽✨️\n☆ Cleanse of the third eye\n☆ Access to your Intuition\n☆ Connection to the Higher\n☆ Manifestation Practice\n☆ Light Language Activation\n☆ Energetic Healing\n☆ Sound Healing\n☆ Aura Cleansing\n☆ Removal of Entities\n☆ Lightshower\n☆ Much Love & Light \nThis is for you\, if you want to\n♡ Learn more about Blue Lotus ♡\n♡ Relax deeply your body\, mind and soul ♡\n♡ Experience healing work with blue lotus ♡\n♡ Open and connect to your third eye ♡\n♡ Free your Self ♡\n♡ Activate Your Powers ♡\n♡ Cleanse of your whole system body\, mind & soul ♡\n♡ Create your Dreams ♡\n♡ Become a Channel ♡\n♡ Purify ♡\n♡ Be Light ♡\n♡ Love ♡ \nTiming\nWednesdays 10 – 11.30 am \nLocation\n📍Sacha\, San Marcos La Laguna\, Guatemala\nhttps://maps.app.goo.gl/jf7VE11hDD1ghJJN7 \nExchange\nSliding Scale minimum 108Q – ♾️ infinite\nWhat it’s worth for you and you can afford.\n🙏🪶🪽💖 \nCombine it with an Empowering ISIS Yogaflow with Saviera 8 – 9.30 am \nReserve now to secure your place! +41786955964 \nIn service of the highest good🙏🪽🪶❤️ \nCon mucha luz y amor 💖 \nSaviera 🙏🪶🪽✨️\nYogini Spaceholder Oracle\nhttps://www.instagram.com/SavieraHealing \n+ \nIsa ✨️\nLight Activator and Shamanic Guide\nhttps://www.instagram.com/onelighttribe \nLive Your Life in Lightness ✨️
URL:https://onelighttribe.com/event/blue-lotus-3/2025-12-10/
LOCATION:Sacha Temple\, Barrio 3\, San Marcos La Laguna\, Sololá\, Guatemala
CATEGORIES:Guatemala
END:VEVENT
BEGIN:VEVENT
DTSTART;TZID=America/Guatemala:20251216T160000
DTEND;TZID=America/Guatemala:20251216T190000
DTSTAMP:20260419T180258
CREATED:20251105T233332Z
LAST-MODIFIED:20260210T215515Z
UID:10000324-1765900800-1765911600@onelighttribe.com
SUMMARY:Cacao • Breath + Sound with One Light Tribe + Aguacate
DESCRIPTION:Join us for a transformational  journey with sacred cacao\, your own breath and vibrational healing. The journey will be guided by Isa and Vladimir\, along with Andrew Aguacate and a live dj set for the breathwork with overlapping live rhythm and voice. This powerful session includes warm up movement\, fire breathwork\, channeling\, chanting and sound healing with alchemy crystal bowls\, harmonium\, voice\, chimes\, didge and gong. Please arrive just before 4 so we can begin on time. Session ends at 7 and there is an optional vegan dinner served after. You can reserve in advance at the link below or message us to reserve your space and bring cash \n\n\n\n\nOption to stay for home cooked Mayan veggie dinner for extra Q60\, please bring cash.\nRegister in advance here \nTheobroma Cacao (translates ‘Food of the Gods’) contains many beneficial health properties and has been used as a food for millennia and ceremonially by Mesoamerican cultures. It was once comparable to gold\, used in trade and ceremonially to document life-milestones. \nWhen we drink cacao prepared for ceremony using high quality raw cacao beans\, the mood enhancing neurochemicals in cacao activate. There is increased blood flow and oxygen to the brain\, heart and skin\, the whole body is nourished\, awareness and focus is heightened and sensations are intensified. This promotes deep relaxation and often space for emotional release. You may feel a deep sense of joy and peace\, a connection to the oneness as well as insights of limiting behaviors\, thoughts and feelings that are able to be understood and released within the safe space of ceremony. \nCacao contains the neurotransmitters serotonin\, tryptophan and dopamine. These assist with feelings of well-being\, can combat stress and anxiety\, and contribute to motivation. Cacao also contains the neuromodulator phenylethylamine (PEA) which helps the body create feelings of excitement and euphoria. Cacao is one of the highest sources of antioxidants and magnesium\, is extremely beneficial to heart health\, and helps lower blood pressure. Cacao also contains caffenine. \nWhen we combine cacao with powerful breathwork\, chanting\, and sound healing\, we can achieve a sense of calm in the mind\, deep connection through an open heart\, and witness energy flowing through and around the body. \nWe begin the journey sharing in drinking the cacao together. We will lead you in warm up movements and a session of powerful breathing with loud music\, a short meditation\, and then a surrender to sound. Hopefully you will leave feeling energized but also quite relaxed in the body. \nPlease wear comfortable clothing for sitting and moving. Also please bring a water bottle and blindfold to cover the eyes. Yoga mats and bolsters/blankets will be provided. \nYou will leave feeling both energized and grounded. This journey assists in clearing the mind and bringing blood flow and oxygen to your body\, and naturally uplifts the spirit. Staying for dinner after helps to further ground and connect with the community.
URL:https://onelighttribe.com/event/cacao-breath-sound/2025-12-16/
LOCATION:Sacha Temple\, Barrio 3\, San Marcos La Laguna\, Sololá\, Guatemala
CATEGORIES:Guatemala
ORGANIZER;CN="One Light Tribe":MAILTO:info@onelighttribe.com
END:VEVENT
BEGIN:VEVENT
DTSTART;TZID=America/Guatemala:20251217T100000
DTEND;TZID=America/Guatemala:20251217T113000
DTSTAMP:20260419T180258
CREATED:20251206T022109Z
LAST-MODIFIED:20251210T215258Z
UID:10000399-1765965600-1765971000@onelighttribe.com
SUMMARY:Blue Lotus Ceremony with Saviera + Isa
DESCRIPTION:Immerse yourself in the beautiful space of Sacha in San Marcos on the sacred Lago de Atitlán in the mystical forest. \nThis weekly offering is held by Saviera with Isa\, and is a safe space for a deep cleansing and opening. It is an empowering journey using the third eye opening effect of the blue lotus to access higher realms & receive cleansing\, empowerment & healing in lightness 🙏🪷💜✨️ \nBlue Lotus has been used in ancient egypt. It’s a beautiful flower which has grown in the sacred nile and is used as tea or tincture for relaxation\, cleanse & opening of the third eye\, accessing higher truth\, connecting with your intuition\, lucid dreaming and as aphrodisiacs. \nIsa will be playing and singing with her alchemy crystal bowls\, channeling and transmitting light language for activation\, cleansing and assistance in tuning the energy field. \nWhat you receive ❤️🪽✨️\n☆ Cleanse of the third eye\n☆ Access to your Intuition\n☆ Connection to the Higher\n☆ Manifestation Practice\n☆ Light Language Activation\n☆ Energetic Healing\n☆ Sound Healing\n☆ Aura Cleansing\n☆ Removal of Entities\n☆ Lightshower\n☆ Much Love & Light \nThis is for you\, if you want to\n♡ Learn more about Blue Lotus ♡\n♡ Relax deeply your body\, mind and soul ♡\n♡ Experience healing work with blue lotus ♡\n♡ Open and connect to your third eye ♡\n♡ Free your Self ♡\n♡ Activate Your Powers ♡\n♡ Cleanse of your whole system body\, mind & soul ♡\n♡ Create your Dreams ♡\n♡ Become a Channel ♡\n♡ Purify ♡\n♡ Be Light ♡\n♡ Love ♡ \nTiming\nWednesdays 10 – 11.30 am \nLocation\n📍Sacha\, San Marcos La Laguna\, Guatemala\nhttps://maps.app.goo.gl/jf7VE11hDD1ghJJN7 \nExchange\nSliding Scale minimum 108Q – ♾️ infinite\nWhat it’s worth for you and you can afford.\n🙏🪶🪽💖 \nCombine it with an Empowering ISIS Yogaflow with Saviera 8 – 9.30 am \nReserve now to secure your place! +41786955964 \nIn service of the highest good🙏🪽🪶❤️ \nCon mucha luz y amor 💖 \nSaviera 🙏🪶🪽✨️\nYogini Spaceholder Oracle\nhttps://www.instagram.com/SavieraHealing \n+ \nIsa ✨️\nLight Activator and Shamanic Guide\nhttps://www.instagram.com/onelighttribe \nLive Your Life in Lightness ✨️
URL:https://onelighttribe.com/event/blue-lotus-3/2025-12-17/
LOCATION:Sacha Temple\, Barrio 3\, San Marcos La Laguna\, Sololá\, Guatemala
CATEGORIES:Guatemala
END:VEVENT
BEGIN:VEVENT
DTSTART;TZID=America/Guatemala:20251222T113000
DTEND;TZID=America/Guatemala:20251222T143000
DTSTAMP:20260419T180258
CREATED:20251007T042107Z
LAST-MODIFIED:20251210T220032Z
UID:10000331-1766403000-1766413800@onelighttribe.com
SUMMARY:Kundalini Activation Ceremony with Andrew
DESCRIPTION:KUNDALINI ACTIVATION is an ancient technology that serves to support us on our path of illumination and liberation. This energy is ancient. It made\, and is\, all things\, and we are reconnecting — with the electricity of ourselves. In this transmission of pure life force energy\, together we open a non•dual field of unconditional love\, and invite the body into resonance with it. It creates an environment where our cells and our being are welcomed to vibrate with more prana and more of your own holy life force that created you\, your dharma\, your path\, and this exact moment. \n🤍 Dec 22\, Jan 2\, Jan 22\, Feb 2\, Feb 20\, Mar 26\, Apr 2 and Apr 22 \n🤍 11:30 AM — 2:30 PM \n🤍 Q250 Cash or $33 USD PayPal to burrows.a@hotmail.com \n🤍 Sacha\, San Marcos\, Lake Atitlán\, Guatemala \n🤍 https://maps.app.goo.gl/oeE7YdjLNionhUJN7 \nI invite you to listen to this song while receiving this special invitation that I am so grateful to be sharing with you:  \nhttps://open.spotify.com/track/3oEaSEDYCa2hwAWFpBgM9G?si=xalOUb_AQ_GkX90xjOHayA \nThis transmission is an offering\, overflowing\, and concentration of pure\, primordial\, life force energy. It is a macro dose of Pure Life\, which is love. Each day\, we are micro dosing Life as she is\, and in these ceremonies\, we are given the opportunity to sit and be moved by the iridescent electricity of our own existence and the light of life that is in and made and moves all things — the waves of the ocean\, the forming of a rainbow\, the falling of rain\, the birthing of a newborn\, the synchronistic unfolding of our path altogether as global family. May we remember why we came and who we truly are — now. \nWe will begin with an opening prayer\, light breathwork\, and then we will lay to receive the 100 minute transmission of raw life force energy. After the transmission\, we will come home slowly\, pray together\, and open the space for sharing\, reflections and connection.  \n  \n— Preparation — \nThis ceremony is such a special and truly nourishing\, healing\, and transformational offering and transmission of raw\, loving\, and pure life force energy\, and it is my highest pleasure and privilege to be a conduit of this and to offer this with you in a safe and beautiful space among soul family. \nYou are welcome to arrive to Sacha any time between 10:30 AM and 10:50 AM so as to receive sacred smudge\, land softly\, settle in\, and begin connecting with the land\, yourself\, and the energy. \nTo prepare\, I now invite you to begin getting curious about your intention for coming to receive the transmission. Is there something that you are praying for\, wondering about\, welcoming in\, or a seed in your life that you are sowing and watering? Is there something you are working with\, becoming free of\, and making space for? I welcome the highest intentions of your beautiful heart now. \nWhether or not you have experience with Kundalini Activation or Kundalinj Yoga\, I welcome you to come with an open heart\, mind\, and without expectations or predictions. This energy is highly intelligent\, safe\, loving\, and will offer you exactly what you need in the exact moment you need it. You may have a very dynamic experience with a lot of movement and expression\, or you may experience a deep stillness\, rest\, or an inner dance\, or perhaps something in between. All is perfect\, and all of you and your expression and experience is welcome and valid.  \n— The Experience (11:30 AM —2:30 PM) — \n•opening prayer\, kundalini breathwork & kriyas (30ish mins) \n•kundalini activation transmission and immersive musical journey (100ish mins) \n•welcome back meditation\, closing prayer\, & space for sharing (20ish mins) \n— Please Bring — \n•comfortable\, soft\, loose clothing (white clothing is so welcome)  \n•a blindfold or eye mask \n•a water bottle \n•your prayers\, your intention\, your whole self \n— Recommendations — \n•physically write out your intentions and prayers to let this energy know that you are committed\, ready\, and available to receive \n•fast for 2 hours before (water\, herbal tea and light fruit is okay until 9:00 AM) \n•avoid coffee\, alcohol\, and other strong stimulants\, psychedelics and substances a few days before\, the day of\, and a few days after the ceremony  \n•limit screen time the day before\, the day of\, and after the ceremony \n•ensure you have space and time for the rest of the day\, as well as the day after\, to integrate\, swim\, ground\, nourish and eat well. this is an invitation to not do much. you are invited to relax simply into being.  \nIt is my highest and most divine honour\, pleasure and privilege to be a conduit of this energy and to share it with you in this way. May this gathering and remembrance serve you and your highest and the highest good of all beings in all realms across all lifetimes. And so it is. \nThese ceremonies\, I have witnessed and experienced and heard from your hearts\, have supported to serve a deep embodied remembrance of who we are\, our magic as human beings alive here today\, a deep shedding and liberation from limits and conditions that hold us from our highest\, and a warm homecoming into the felt and lived experience of love. Welcome. \nWelcome to the temple of your own holy upspiral. I love and see and support you\, and it is my highest pleasure to witness your beautiful blooming. I send you a lot of love\, joy\, and enthusiasm on this day for this work and this prayer that we get to do and partake in. Thank you for your trust\, your willingness to receive\, and your love for this life. \nI am so looking forward to welcoming you even further home into the temple and depths of your own divine magic. I make myself available now\, before\, during\, and after the ceremony to connect\, to receive questions\, and to share with you. We are forever connected\, and for this I am grateful. \nE-Mail: andrew.avocados@gmail.com \nInstagram: @andrewavocados \nWhatsApp: +1 289 828 2277 \nIn gratitude 🌈 and with Love\, \nAndrew
URL:https://onelighttribe.com/event/kundalini-activation-ceremony/2025-12-22/
LOCATION:Sacha Temple\, Barrio 3\, San Marcos La Laguna\, Sololá\, Guatemala
CATEGORIES:Guatemala
ORGANIZER;CN="Andrew Burrows":MAILTO:andrew.avocados@gmail.com
END:VEVENT
END:VCALENDAR