BEGIN:VCALENDAR
VERSION:2.0
PRODID:-//One Light Tribe - ECPv6.5.0//NONSGML v1.0//EN
CALSCALE:GREGORIAN
METHOD:PUBLISH
X-WR-CALNAME:One Light Tribe
X-ORIGINAL-URL:https://onelighttribe.com
X-WR-CALDESC:Events for One Light Tribe
REFRESH-INTERVAL;VALUE=DURATION:PT1H
X-Robots-Tag:noindex
X-PUBLISHED-TTL:PT1H
BEGIN:VTIMEZONE
TZID:America/Guatemala
BEGIN:STANDARD
TZOFFSETFROM:-0600
TZOFFSETTO:-0600
TZNAME:CST
DTSTART:20240101T000000
END:STANDARD
END:VTIMEZONE
BEGIN:VEVENT
DTSTART;TZID=America/Guatemala:20250208T110000
DTEND;TZID=America/Guatemala:20250208T130000
DTSTAMP:20260420T033233
CREATED:20241217T090354Z
LAST-MODIFIED:20250122T202220Z
UID:10000270-1739012400-1739019600@onelighttribe.com
SUMMARY:Kundalini Energetic Activation
DESCRIPTION:Kundalini Energetic Activation\nYou are invited to come receive a Kundalini Energetic Activation\, a powerful energetic transmission that awakens dormant Kundalini energy within the body\, leading to profound healing\, personal empowerment\, and spiritual transformation. Through sound\, breath\, and the facilitation and invitation of embodied Kundalini energy\, participants are guided lovingly into an expansive state of awareness in a non dual field accompanied by an immersive and intentionally woven sound journey\, where old blocks are effortlessly released and a deeper sense of alignment is restored during a transmission of raw life force energy. This is not a Kundalini yoga class\, but an energetic activation that initiates the awakening of each individual’s unique life force.  \nwhen \nFRIDAY DECEMBER 27 • 11 AM – 1 PM \nTHURSDAY JANUARY 30 • 11 AM – 1 PM \nSATURDAY FEBRUARY 8 • 11AM – 1 PM \nwhere \nSACHA Temple\, San Marcos\, Lake Atitlán \nrsvp on whatsapp \nJASMINE: +1 775 830 9509 \nANDREW: +1 289 828 2277 \nexchange Q250 / $33 USD \n(via QR code\, or text to RSVP and pay by cash at the doors)
URL:https://onelighttribe.com/event/kundalini-energetic-activation/2025-02-08/
LOCATION:Sacha Temple\, Barrio 3\, San Marcos La Laguna\, Sololá\, Guatemala
CATEGORIES:Guatemala
ORGANIZER;CN="Jasmine and Andrew":MAILTO:andrew.avocados@gmail.com
END:VEVENT
BEGIN:VEVENT
DTSTART;TZID=America/Guatemala:20250130T110000
DTEND;TZID=America/Guatemala:20250130T130000
DTSTAMP:20260420T033233
CREATED:20241217T090354Z
LAST-MODIFIED:20250122T202220Z
UID:10000269-1738234800-1738242000@onelighttribe.com
SUMMARY:Kundalini Energetic Activation
DESCRIPTION:Kundalini Energetic Activation\nYou are invited to come receive a Kundalini Energetic Activation\, a powerful energetic transmission that awakens dormant Kundalini energy within the body\, leading to profound healing\, personal empowerment\, and spiritual transformation. Through sound\, breath\, and the facilitation and invitation of embodied Kundalini energy\, participants are guided lovingly into an expansive state of awareness in a non dual field accompanied by an immersive and intentionally woven sound journey\, where old blocks are effortlessly released and a deeper sense of alignment is restored during a transmission of raw life force energy. This is not a Kundalini yoga class\, but an energetic activation that initiates the awakening of each individual’s unique life force.  \nwhen \nFRIDAY DECEMBER 27 • 11 AM – 1 PM \nTHURSDAY JANUARY 30 • 11 AM – 1 PM \nSATURDAY FEBRUARY 8 • 11AM – 1 PM \nwhere \nSACHA Temple\, San Marcos\, Lake Atitlán \nrsvp on whatsapp \nJASMINE: +1 775 830 9509 \nANDREW: +1 289 828 2277 \nexchange Q250 / $33 USD \n(via QR code\, or text to RSVP and pay by cash at the doors)
URL:https://onelighttribe.com/event/kundalini-energetic-activation/2025-01-30/
LOCATION:Sacha Temple\, Barrio 3\, San Marcos La Laguna\, Sololá\, Guatemala
CATEGORIES:Guatemala
ORGANIZER;CN="Jasmine and Andrew":MAILTO:andrew.avocados@gmail.com
END:VEVENT
BEGIN:VEVENT
DTSTART;TZID=America/Guatemala:20241227T110000
DTEND;TZID=America/Guatemala:20241227T130000
DTSTAMP:20260420T033233
CREATED:20241217T090354Z
LAST-MODIFIED:20250122T202220Z
UID:10000268-1735297200-1735304400@onelighttribe.com
SUMMARY:Kundalini Energetic Activation
DESCRIPTION:Kundalini Energetic Activation\nYou are invited to come receive a Kundalini Energetic Activation\, a powerful energetic transmission that awakens dormant Kundalini energy within the body\, leading to profound healing\, personal empowerment\, and spiritual transformation. Through sound\, breath\, and the facilitation and invitation of embodied Kundalini energy\, participants are guided lovingly into an expansive state of awareness in a non dual field accompanied by an immersive and intentionally woven sound journey\, where old blocks are effortlessly released and a deeper sense of alignment is restored during a transmission of raw life force energy. This is not a Kundalini yoga class\, but an energetic activation that initiates the awakening of each individual’s unique life force.  \nwhen \nFRIDAY DECEMBER 27 • 11 AM – 1 PM \nTHURSDAY JANUARY 30 • 11 AM – 1 PM \nSATURDAY FEBRUARY 8 • 11AM – 1 PM \nwhere \nSACHA Temple\, San Marcos\, Lake Atitlán \nrsvp on whatsapp \nJASMINE: +1 775 830 9509 \nANDREW: +1 289 828 2277 \nexchange Q250 / $33 USD \n(via QR code\, or text to RSVP and pay by cash at the doors)
URL:https://onelighttribe.com/event/kundalini-energetic-activation/2024-12-27/
LOCATION:Sacha Temple\, Barrio 3\, San Marcos La Laguna\, Sololá\, Guatemala
CATEGORIES:Guatemala
ORGANIZER;CN="Jasmine and Andrew":MAILTO:andrew.avocados@gmail.com
END:VEVENT
END:VCALENDAR