BEGIN:VCALENDAR
VERSION:2.0
PRODID:-//One Light Tribe - ECPv6.5.0//NONSGML v1.0//EN
CALSCALE:GREGORIAN
METHOD:PUBLISH
X-WR-CALNAME:One Light Tribe
X-ORIGINAL-URL:https://onelighttribe.com
X-WR-CALDESC:Events for One Light Tribe
REFRESH-INTERVAL;VALUE=DURATION:PT1H
X-Robots-Tag:noindex
X-PUBLISHED-TTL:PT1H
BEGIN:VTIMEZONE
TZID:America/Guatemala
BEGIN:STANDARD
TZOFFSETFROM:-0600
TZOFFSETTO:-0600
TZNAME:CST
DTSTART:20240101T000000
END:STANDARD
TZID:America/Los_Angeles
BEGIN:DAYLIGHT
TZOFFSETFROM:-0800
TZOFFSETTO:-0700
TZNAME:PDT
DTSTART:20250309T100000
END:DAYLIGHT
BEGIN:STANDARD
TZOFFSETFROM:-0700
TZOFFSETTO:-0800
TZNAME:PST
DTSTART:20251102T090000
END:STANDARD
END:VTIMEZONE
BEGIN:VEVENT
DTSTART;TZID=America/Guatemala:20251023T160000
DTEND;TZID=America/Guatemala:20251027T120000
DTSTAMP:20260419T180205
CREATED:20250604T150417Z
LAST-MODIFIED:20250604T150510Z
UID:10000299-1761235200-1761566400@onelighttribe.com
SUMMARY:Sisters of the Light Mt. Shasta Retreat
DESCRIPTION:This very special 4 night women’s retreat will be held at a magical private property in Mt. Shasta. This retreat will be led by Isa\, and will be based around medicine ceremonies\, grid working\, channeling and light language/voice activation. We will work on the land and make trips to special vortex points for gridwork\, tapping into lemurain energies and memories. We will call on our galactic guides to help clear out the old parts of ourselves so that we have clear energy to move forward into higher dimensions and our fullest potentials. Rooms are shared in the house 2-3 per room\, we will share delicious organic vegetarian food\, 8 person hot tub\, sacred walks on the land\, sound healing\, light language and healing circles. This is sure to be a next level magical gathering of the divine feminine. Limited to 15 participants.
URL:https://onelighttribe.com/event/sisters-of-the-light-mt-shasta-retreat/
LOCATION:Private Property\, Marin County\, CA\, United States
CATEGORIES:California
ATTACH;FMTTYPE=image/jpeg:https://onelighttribe.com/wp-content/uploads/2025/06/Image-1.jpeg
ORGANIZER;CN="Isa":MAILTO:isa@onelighttribe.com
END:VEVENT
BEGIN:VEVENT
DTSTART;TZID=America/Guatemala:20250918T160000
DTEND;TZID=America/Guatemala:20250921T120000
DTSTAMP:20260419T180205
CREATED:20250512T151322Z
LAST-MODIFIED:20250512T151322Z
UID:10000297-1758211200-1758456000@onelighttribe.com
SUMMARY:Divine Union of I: Fall Equinox Medicine Retreat • SF Bay Area\, CA
DESCRIPTION:Private Retreat open to our members and those on our private mailing list.
URL:https://onelighttribe.com/event/divine-union-of-i-fall-equinox-medicine-retreat-sf-bay-area-ca/
LOCATION:Private Property\, Marin County\, CA\, United States
CATEGORIES:California
ORGANIZER;CN="One Light Tribe":MAILTO:info@onelighttribe.com
END:VEVENT
BEGIN:VEVENT
DTSTART;TZID=America/Los_Angeles:20250710T160000
DTEND;TZID=America/Los_Angeles:20250713T120000
DTSTAMP:20260419T180205
CREATED:20250502T052959Z
LAST-MODIFIED:20250502T053046Z
UID:10000294-1752163200-1752408000@onelighttribe.com
SUMMARY:Summer Lovin' Yourself Retreat: Bay Area California
DESCRIPTION:Private retreat\, 3 nights with One Light Tribe. Available to those on the private mailing list by invitation. \nretreats@onelighttribe.com
URL:https://onelighttribe.com/event/summer-lovin-yourself-retreat-bay-area-california/
LOCATION:Private Property\, Marin County\, CA\, United States
CATEGORIES:California
ORGANIZER;CN="One Light Tribe":MAILTO:info@onelighttribe.com
END:VEVENT
BEGIN:VEVENT
DTSTART;TZID=America/Guatemala:20250605T160000
DTEND;TZID=America/Guatemala:20250609T130000
DTSTAMP:20260419T180205
CREATED:20250423T180909Z
LAST-MODIFIED:20250502T052704Z
UID:10000292-1749139200-1749474000@onelighttribe.com
SUMMARY:Crystalline Summer Medicine Weekend: California • Nevada City\, CA
DESCRIPTION:Private retreat in Nevada City\, please message us if you re interested in receiving the invitation.
URL:https://onelighttribe.com/event/crystalline-summer-medicine-weekend-california-june-5-9-nevada-city-ca/
LOCATION:Private Property\, Marin County\, CA\, United States
CATEGORIES:California
ORGANIZER;CN="One Light Tribe":MAILTO:info@onelighttribe.com
END:VEVENT
BEGIN:VEVENT
DTSTART;TZID=America/Guatemala:20241107T160000
DTEND;TZID=America/Guatemala:20241110T120000
DTSTAMP:20260419T180205
CREATED:20240916T003424Z
LAST-MODIFIED:20240916T003424Z
UID:10000264-1730995200-1731240000@onelighttribe.com
SUMMARY:Embrace the Serpent Medicine Retreat
DESCRIPTION:Private Retreat open to those on private mailing list
URL:https://onelighttribe.com/event/embrace-the-serpent-medicine-retreat/
LOCATION:Private Property\, Marin County\, CA\, United States
CATEGORIES:California
ORGANIZER;CN="One Light Tribe":MAILTO:info@onelighttribe.com
END:VEVENT
BEGIN:VEVENT
DTSTART;TZID=America/Guatemala:20240711T150000
DTEND;TZID=America/Guatemala:20240714T120000
DTSTAMP:20260419T180205
CREATED:20240503T211611Z
LAST-MODIFIED:20240503T211638Z
UID:10000258-1720710000-1720958400@onelighttribe.com
SUMMARY:Summer Lovin' Yourself Weekend
DESCRIPTION:3 night private retreat weekend\, available to our private mailing list
URL:https://onelighttribe.com/event/summer-lovin-yourself-weekend/
LOCATION:Private Property\, Marin County\, CA\, United States
CATEGORIES:California
ORGANIZER;CN="One Light Tribe":MAILTO:info@onelighttribe.com
END:VEVENT
BEGIN:VEVENT
DTSTART;TZID=America/Guatemala:20240426T150000
DTEND;TZID=America/Guatemala:20240429T110000
DTSTAMP:20260419T180205
CREATED:20240302T225135Z
LAST-MODIFIED:20251126T172548Z
UID:10000244-1714143600-1714388400@onelighttribe.com
SUMMARY:Spring Cleaning Medicine Retreat Weekend
DESCRIPTION:Private Retreat for members\, Marin County\, CA. please inquire about our private mailing list
URL:https://onelighttribe.com/event/spring-cleaning-medicine-retreat-weekend/
LOCATION:Private Property\, Marin County\, CA\, United States
CATEGORIES:California
ORGANIZER;CN="One Light Tribe":MAILTO:info@onelighttribe.com
END:VEVENT
END:VCALENDAR